BEGIN:VCALENDAR
VERSION:2.0
PRODID:-//EcoLeague - ECPv6.15.20//NONSGML v1.0//EN
CALSCALE:GREGORIAN
METHOD:PUBLISH
X-ORIGINAL-URL:https://ecoleague.org
X-WR-CALDESC:Events for EcoLeague
REFRESH-INTERVAL;VALUE=DURATION:PT1H
X-Robots-Tag:noindex
X-PUBLISHED-TTL:PT1H
BEGIN:VTIMEZONE
TZID:America/New_York
BEGIN:DAYLIGHT
TZOFFSETFROM:-0500
TZOFFSETTO:-0400
TZNAME:EDT
DTSTART:20140309T070000
END:DAYLIGHT
BEGIN:STANDARD
TZOFFSETFROM:-0400
TZOFFSETTO:-0500
TZNAME:EST
DTSTART:20141102T060000
END:STANDARD
BEGIN:DAYLIGHT
TZOFFSETFROM:-0500
TZOFFSETTO:-0400
TZNAME:EDT
DTSTART:20150308T070000
END:DAYLIGHT
BEGIN:STANDARD
TZOFFSETFROM:-0400
TZOFFSETTO:-0500
TZNAME:EST
DTSTART:20151101T060000
END:STANDARD
BEGIN:DAYLIGHT
TZOFFSETFROM:-0500
TZOFFSETTO:-0400
TZNAME:EDT
DTSTART:20160313T070000
END:DAYLIGHT
BEGIN:STANDARD
TZOFFSETFROM:-0400
TZOFFSETTO:-0500
TZNAME:EST
DTSTART:20161106T060000
END:STANDARD
BEGIN:DAYLIGHT
TZOFFSETFROM:-0500
TZOFFSETTO:-0400
TZNAME:EDT
DTSTART:20170312T070000
END:DAYLIGHT
BEGIN:STANDARD
TZOFFSETFROM:-0400
TZOFFSETTO:-0500
TZNAME:EST
DTSTART:20171105T060000
END:STANDARD
END:VTIMEZONE
BEGIN:VEVENT
DTSTART;VALUE=DATE:20160917
DTEND;VALUE=DATE:20160918
DTSTAMP:20260421T070410
CREATED:20160803T213248Z
LAST-MODIFIED:20160803T213248Z
UID:1341-1474070400-1474156799@ecoleague.org
SUMMARY:Dickinson College Fall Open House
DESCRIPTION:High school juniors and seniors\, join us for a Discover Dickinson Fall Open House. Learn more about the academic experience from our faculty and current students. Tour campus and eat lunch in the dining hall. Hear from admissions and financial aid representatives\, as well as from Dickinson’s senior administrators. \n\n\n\n\n\n\n\nMy Dickinson Experience\n\n\nProgram Highlights\n\n\n9:30 a.m. Registration\n10:00 a.m. Welcome and Opening Remarks\n10:30 a.m. Academic Inquiry at Dickinson\n(you will have the opportunity to choose from one of the following panels) \n\nDickinson’s Distinctive Approach to the Social Sciences\nDickinson’s Distinctive Approach to the Natural Sciences\nDickinson’s Distinctive Approach to the Arts and Humanities\n\n11:30 a.m. Campus Tour\n12:45 p.m. Lunch in the Dining Hall\n1:45 p.m. The Dickinson Experience: Hear from Our Students\n2:30 p.m. Conversation about Admissions and Financial Aid\n2:30 p.m. Forum (optional group interview for high school seniors)\n3:00 p.m. Closing Reception
URL:https://ecoleague.org/event/dickinson-college-fall-open-house/
LOCATION:Dickinson College\, 272 West High St\, Carlisle\, PA\, 17013\, United States
END:VEVENT
BEGIN:VEVENT
DTSTART;VALUE=DATE:20160908
DTEND;VALUE=DATE:20160909
DTSTAMP:20260421T070410
CREATED:20160803T211232Z
LAST-MODIFIED:20160803T211232Z
UID:1331-1473292800-1473379199@ecoleague.org
SUMMARY:College of the Atlantic Fall Term Begins
DESCRIPTION:
URL:https://ecoleague.org/event/college-of-the-atlantic-fall-term-begins/
LOCATION:College of the Atlantic\, Bar Harbor\, ME\, United States
END:VEVENT
BEGIN:VEVENT
DTSTART;VALUE=DATE:20160907
DTEND;VALUE=DATE:20160908
DTSTAMP:20260421T070410
CREATED:20160803T204207Z
LAST-MODIFIED:20160803T204207Z
UID:1324-1473206400-1473292799@ecoleague.org
SUMMARY:Northland College Fall Semester Begins
DESCRIPTION:
URL:https://ecoleague.org/event/northland-college-fall-semester-begins/
LOCATION:Northland College\, CSE 167
END:VEVENT
BEGIN:VEVENT
DTSTART;VALUE=DATE:20160823
DTEND;VALUE=DATE:20160824
DTSTAMP:20260421T070410
CREATED:20160803T210919Z
LAST-MODIFIED:20160803T210919Z
UID:1329-1471910400-1471996799@ecoleague.org
SUMMARY:Prescott College Term and Block Courses Begin
DESCRIPTION:
URL:https://ecoleague.org/event/prescott-college-term-and-block-courses-begin/
LOCATION:Prescott College\, 220 Grove Ave\, Prescott\, AZ\, 86301\, United States
END:VEVENT
BEGIN:VEVENT
DTSTART;VALUE=DATE:20160822
DTEND;VALUE=DATE:20160823
DTSTAMP:20260421T070410
CREATED:20160803T211732Z
LAST-MODIFIED:20160803T211732Z
UID:1335-1471824000-1471910399@ecoleague.org
SUMMARY:Alaska Pacific University Fall Block & Module 1 Courses Begin
DESCRIPTION:
URL:https://ecoleague.org/event/alaska-pacific-university-fall-block-module-1-courses-begin/
LOCATION:Alaska Pacific University\, 4101 Anchorage Drive\, Anchorage\, AK\, 99508\, United States
END:VEVENT
BEGIN:VEVENT
DTSTART;VALUE=DATE:20160821
DTEND;VALUE=DATE:20160822
DTSTAMP:20260421T070410
CREATED:20160803T211617Z
LAST-MODIFIED:20160803T211617Z
UID:1332-1471737600-1471823999@ecoleague.org
SUMMARY:Alaska Pacific University Fall Semester Begins
DESCRIPTION:
URL:https://ecoleague.org/event/alaska-pacific-university-fall-semester-begins/
LOCATION:Alaska Pacific University\, 4101 Anchorage Drive\, Anchorage\, AK\, 99508\, United States
END:VEVENT
BEGIN:VEVENT
DTSTART;VALUE=DATE:20160815
DTEND;VALUE=DATE:20160816
DTSTAMP:20260421T070410
CREATED:20160803T213054Z
LAST-MODIFIED:20160803T213054Z
UID:1340-1471219200-1471305599@ecoleague.org
SUMMARY:Discover Dickinson Day
DESCRIPTION:Designed for first-time visitors\, this ideal introductory look at Dickinson features a welcome\, tour of our historic campus\, lunch in the Dining Hall and an opportunity to learn more about the admissions and financial-aid process. Come learn more about the distinctiveness of the Dickinson experience. \nImportant Note: If you are planning your visit after the registration deadline has passed\, you cannot use the online registration tool to register. To schedule your visit\, please call the Office of Admissions at 717-245-1231 or 800-644-1773. \n\n\n\n\n\n\n\nMy Dickinson Experience\n\n\nProgram Highlights\n\n\n8:30 a.m.      Registration\n8:45 a.m.      Welcome\n9:00 a.m.      Campus Tour\n10:15 a.m.     Distinctively Dickinson Presentation\n11:00 a.m.     Lunch in the Dining Hall\n12:00 p.m.    Admissions and Financial Aid Q&A (parent session)\nUnpacking the Admissions Process (student workshop)
URL:https://ecoleague.org/event/discover-dickinson-day-2/
LOCATION:Dickinson College\, 272 West High St\, Carlisle\, PA\, 17013\, United States
END:VEVENT
BEGIN:VEVENT
DTSTART;VALUE=DATE:20160812
DTEND;VALUE=DATE:20160813
DTSTAMP:20260421T070410
CREATED:20160803T014713Z
LAST-MODIFIED:20160803T014713Z
UID:1315-1470960000-1471046399@ecoleague.org
SUMMARY:Green Mountain College Transfer Day
DESCRIPTION:Green Mountain College is hosting a series of Summer Transfer Days designed for students who are exploring the option of transferring from another school. These events are also open to students who have suspended their post-secondary education and are interested in returning to college. \nVisitors will receive a campus tour\, a free lunch at the College’s Cerridwen Farmhouse with currentGMC students and faculty\, and an on-the-spot admissions decision (for students with transcripts showing 24 or more credits). Students who RSVP can also meet with financial services professionals to discuss financial aid options\, chat with coaches of our Division III interscholastic athletics programs\, and meet with professors and student support staff. \n“Small class sizes and personal attention are key attributes of a GMC education\,” said GMC dean of enrollment management Jeffrey Mon. “We also counsel prospective students one-on-one about how to make a seamless transition into one of our 24 major programs\, or help them develop their own self-designed major through our progressive program.” \nSummer Transfer Day dates are June 17\, June 28\, July 11\, July 21\, August 2\, and August 12. Walk-ins are welcome; students are encouraged to RSVP.
URL:https://ecoleague.org/event/green-mountain-college-transfer-day/
LOCATION:Green Mountain College\, Dunton\, Room #114
END:VEVENT
BEGIN:VEVENT
DTSTART;VALUE=DATE:20160810
DTEND;VALUE=DATE:20160811
DTSTAMP:20260421T070410
CREATED:20160803T212933Z
LAST-MODIFIED:20160803T212933Z
UID:1337-1470787200-1470873599@ecoleague.org
SUMMARY:Discover Dickinson Day
DESCRIPTION:Designed for first-time visitors\, this ideal introductory look at Dickinson features a welcome\, tour of our historic campus\, lunch in the Dining Hall and an opportunity to learn more about the admissions and financial-aid process. Come learn more about the distinctiveness of the Dickinson experience. \nImportant Note: If you are planning your visit after the registration deadline has passed\, you cannot use the online registration tool to register. To schedule your visit\, please call the Office of Admissions at 717-245-1231 or 800-644-1773. \n\n\n\n\n\n\n\nMy Dickinson Experience\n\n\nProgram Highlights\n\n\n8:30 a.m.      Registration\n8:45 a.m.      Welcome\n9:00 a.m.      Campus Tour\n10:15 a.m.     Distinctively Dickinson Presentation\n11:00 a.m.     Lunch in the Dining Hall\n12:00 p.m.    Admissions and Financial Aid Q&A (parent session)\nUnpacking the Admissions Process (student workshop)
URL:https://ecoleague.org/event/discover-dickinson-day/
LOCATION:Dickinson College\, 272 West High St\, Carlisle\, PA\, 17013\, United States
END:VEVENT
BEGIN:VEVENT
DTSTART;VALUE=DATE:20160802
DTEND;VALUE=DATE:20160803
DTSTAMP:20260421T070410
CREATED:20160803T014500Z
LAST-MODIFIED:20160803T014500Z
UID:1313-1470096000-1470182399@ecoleague.org
SUMMARY:Green Mountain College Summer Transfer Day
DESCRIPTION:Green Mountain College is hosting a series of Summer Transfer Days designed for students who are exploring the option of transferring from another school. These events are also open to students who have suspended their post-secondary education and are interested in returning to college. \nVisitors will receive a campus tour\, a free lunch at the College’s Cerridwen Farmhouse with currentGMC students and faculty\, and an on-the-spot admissions decision (for students with transcripts showing 24 or more credits). Students who RSVP can also meet with financial services professionals to discuss financial aid options\, chat with coaches of our Division III interscholastic athletics programs\, and meet with professors and student support staff. \n“Small class sizes and personal attention are key attributes of a GMC education\,” said GMC dean of enrollment management Jeffrey Mon. “We also counsel prospective students one-on-one about how to make a seamless transition into one of our 24 major programs\, or help them develop their own self-designed major through our progressive program.” \nSummer Transfer Day dates are June 17\, June 28\, July 11\, July 21\, August 2\, and August 12. Walk-ins are welcome; students are encouraged to RSVP.
URL:https://ecoleague.org/event/green-mountain-college-summer-transfer-day/
LOCATION:Green Mountain College\, Dunton\, Room #114
END:VEVENT
BEGIN:VEVENT
DTSTART;VALUE=DATE:20160616
DTEND;VALUE=DATE:20160619
DTSTAMP:20260421T070410
CREATED:20150731T014058Z
LAST-MODIFIED:20150731T014058Z
UID:1101-1466035200-1466294399@ecoleague.org
SUMMARY:2016 EcoLeague Retreat
DESCRIPTION:The 2016 EcoLeague Retreat will convene at College of the Atlantic at Bar Harbor\, Maine\, from June 16-18\, 2016. This annual retreat brings together interested representatives from each of the six member schools to craft new initiatives and foster collaborations across campuses.
URL:https://ecoleague.org/event/2016-ecoleague-retreat/
LOCATION:College of the Atlantic\, Bar Harbor\, ME\, United States
END:VEVENT
BEGIN:VEVENT
DTSTART;TZID=America/New_York:20160222T160000
DTEND;TZID=America/New_York:20160222T170000
DTSTAMP:20260421T070410
CREATED:20160219T021537Z
LAST-MODIFIED:20160219T021537Z
UID:1176-1456156800-1456160400@ecoleague.org
SUMMARY:Info Session at College of the Atlantic
DESCRIPTION:College of the Atlantic will be hosting an EcoLeague Info Session at 4:00 pm. Please refer to the campus email announcement for location details.
URL:https://ecoleague.org/event/info-session-at-college-of-the-atlantic/
LOCATION:College of the Atlantic\, Bar Harbor\, ME\, United States
END:VEVENT
BEGIN:VEVENT
DTSTART;TZID=America/New_York:20160208T150000
DTEND;TZID=America/New_York:20160208T160000
DTSTAMP:20260421T070410
CREATED:20160205T215629Z
LAST-MODIFIED:20160205T215806Z
UID:1168-1454943600-1454947200@ecoleague.org
SUMMARY:GMC EcoLeague Information Session
DESCRIPTION:Come learn more about program details\, how your admission and financial aid transfer on an exchange\, exciting courses at each school\, and more! \nFebruary 8\, 3:00 – 4:00 pm\, Dunton\, Room #114\, Green Mountain College
URL:https://ecoleague.org/event/gmc-ecoleague-information-session/
LOCATION:Green Mountain College\, Dunton\, Room #114
END:VEVENT
BEGIN:VEVENT
DTSTART;VALUE=DATE:20151009
DTEND;VALUE=DATE:20151010
DTSTAMP:20260421T070410
CREATED:20150904T023156Z
LAST-MODIFIED:20150904T023156Z
UID:1129-1444348800-1444435199@ecoleague.org
SUMMARY:Student Applications Due for Spring 2016 EcoLeague Exchanges
DESCRIPTION:Application materials can be found on the student page of our website.
URL:https://ecoleague.org/event/student-applications-due-for-spring-2016-ecoleague-exchanges/
END:VEVENT
BEGIN:VEVENT
DTSTART;TZID=America/New_York:20151002T120000
DTEND;TZID=America/New_York:20151002T130000
DTSTAMP:20260421T070410
CREATED:20150911T183921Z
LAST-MODIFIED:20150911T184228Z
UID:1130-1443787200-1443790800@ecoleague.org
SUMMARY:APU EcoLeague Info Session
DESCRIPTION:Come learn more about program details\, how your admission and financial aid transfer on an exchange\, exciting courses at each school\, and more! \n\n  \n 
URL:https://ecoleague.org/event/apu-ecoleague-info-session/
END:VEVENT
BEGIN:VEVENT
DTSTART;TZID=America/New_York:20150928T163000
DTEND;TZID=America/New_York:20150928T173000
DTSTAMP:20260421T070410
CREATED:20150912T003027Z
LAST-MODIFIED:20150912T003027Z
UID:1136-1443457800-1443461400@ecoleague.org
SUMMARY:GMC EcoLeague Info Session
DESCRIPTION:Come learn more about program details\, how your admission and financial aid transfer on an exchange\, exciting courses at each school\, and more!
URL:https://ecoleague.org/event/gmc-ecoleague-info-session/
LOCATION:Green Mountain College\, Dunton 112
END:VEVENT
BEGIN:VEVENT
DTSTART;VALUE=DATE:20150928
DTEND;VALUE=DATE:20151212
DTSTAMP:20260421T070410
CREATED:20150129T221434Z
LAST-MODIFIED:20150129T221434Z
UID:703-1443398400-1449878399@ecoleague.org
SUMMARY:Prescott College Fall Semester
DESCRIPTION:
URL:https://ecoleague.org/event/prescott-college-fall-semester/
END:VEVENT
BEGIN:VEVENT
DTSTART;VALUE=DATE:20150923
DTEND;VALUE=DATE:20151212
DTSTAMP:20260421T070410
CREATED:20150129T223830Z
LAST-MODIFIED:20150129T223830Z
UID:708-1442966400-1449878399@ecoleague.org
SUMMARY:APU Fall Session
DESCRIPTION:
URL:https://ecoleague.org/event/apu-fall-session/
END:VEVENT
BEGIN:VEVENT
DTSTART;TZID=America/New_York:20150922T160000
DTEND;TZID=America/New_York:20150922T164500
DTSTAMP:20260421T070410
CREATED:20150904T022507Z
LAST-MODIFIED:20150922T010220Z
UID:1126-1442937600-1442940300@ecoleague.org
SUMMARY:Northland EcoLeague Info Session
DESCRIPTION:Come learn more about program details\, how your admission and financial aid transfer on an exchange\, exciting courses at each school\, and more.
URL:https://ecoleague.org/event/northland-ecoleague-info-session/
LOCATION:Northland College\, CSE 167
END:VEVENT
BEGIN:VEVENT
DTSTART;VALUE=DATE:20150909
DTEND;VALUE=DATE:20151212
DTSTAMP:20260421T070410
CREATED:20150129T221609Z
LAST-MODIFIED:20150129T221609Z
UID:704-1441756800-1449878399@ecoleague.org
SUMMARY:Northland College Fall Semester
DESCRIPTION:
URL:https://ecoleague.org/event/northland-college-fall-semester/
END:VEVENT
BEGIN:VEVENT
DTSTART;VALUE=DATE:20150831
DTEND;VALUE=DATE:20151219
DTSTAMP:20260421T070410
CREATED:20150129T221907Z
LAST-MODIFIED:20150129T221907Z
UID:706-1440979200-1450483199@ecoleague.org
SUMMARY:Dickinson College Fall Semester
DESCRIPTION:
URL:https://ecoleague.org/event/dickinson-college-fall-semester/
END:VEVENT
BEGIN:VEVENT
DTSTART;VALUE=DATE:20150831
DTEND;VALUE=DATE:20151219
DTSTAMP:20260421T070410
CREATED:20150129T221744Z
LAST-MODIFIED:20150129T221744Z
UID:705-1440979200-1450483199@ecoleague.org
SUMMARY:Green Mountain Fall Semester
DESCRIPTION:
URL:https://ecoleague.org/event/green-mountain-fall-semester/
END:VEVENT
BEGIN:VEVENT
DTSTART;VALUE=DATE:20150825
DTEND;VALUE=DATE:20150826
DTSTAMP:20260421T070410
CREATED:20150129T221319Z
LAST-MODIFIED:20150129T221319Z
UID:702-1440460800-1440547199@ecoleague.org
SUMMARY:Prescott College Fall Block Begins
DESCRIPTION:
URL:https://ecoleague.org/event/prescott-college-fall-block-begins/
END:VEVENT
BEGIN:VEVENT
DTSTART;VALUE=DATE:20150824
DTEND;VALUE=DATE:20150825
DTSTAMP:20260421T070410
CREATED:20150129T223736Z
LAST-MODIFIED:20150129T223915Z
UID:707-1440374400-1440460799@ecoleague.org
SUMMARY:APU Fall Block begins
DESCRIPTION:
URL:https://ecoleague.org/event/apu-fall-2015-block-begins/
END:VEVENT
BEGIN:VEVENT
DTSTART;VALUE=DATE:20150618
DTEND;VALUE=DATE:20150621
DTSTAMP:20260421T070410
CREATED:20150203T024332Z
LAST-MODIFIED:20150203T024332Z
UID:869-1434585600-1434844799@ecoleague.org
SUMMARY:EcoLeague Annual Retreat - at Dickinson College
DESCRIPTION:
URL:https://ecoleague.org/event/ecoleague-annual-retreat-at-dickinson-college/
END:VEVENT
BEGIN:VEVENT
DTSTART;VALUE=DATE:20150410
DTEND;VALUE=DATE:20150411
DTSTAMP:20260421T070410
CREATED:20150129T220654Z
LAST-MODIFIED:20150129T220654Z
UID:700-1428624000-1428710399@ecoleague.org
SUMMARY:Grand Canyon Semester application due
DESCRIPTION:For more information\, contact Joel Barnes at Prescott College – jbarnes”at”prescott.edu.
URL:https://ecoleague.org/event/grand-canyon-semester-application-due/
END:VEVENT
BEGIN:VEVENT
DTSTART;VALUE=DATE:20150315
DTEND;VALUE=DATE:20150316
DTSTAMP:20260421T070410
CREATED:20150129T220158Z
LAST-MODIFIED:20150129T220158Z
UID:699-1426377600-1426463999@ecoleague.org
SUMMARY:Student exchange paperwork due to EcoLeague Coordinator
DESCRIPTION:
URL:https://ecoleague.org/event/student-exchange-paperwork-due-to-ecoleague-coordinator/
END:VEVENT
BEGIN:VEVENT
DTSTART;VALUE=DATE:20150304
DTEND;VALUE=DATE:20150308
DTSTAMP:20260421T070410
CREATED:20150203T024212Z
LAST-MODIFIED:20150203T024212Z
UID:868-1425427200-1425772799@ecoleague.org
SUMMARY:EcoLeague attends Green Schools National Network
DESCRIPTION:
URL:https://ecoleague.org/event/ecoleague-attends-green-schools-national-network/
END:VEVENT
BEGIN:VEVENT
DTSTART;VALUE=DATE:20150301
DTEND;VALUE=DATE:20150302
DTSTAMP:20260421T070410
CREATED:20150129T215836Z
LAST-MODIFIED:20150129T220110Z
UID:698-1425168000-1425254399@ecoleague.org
SUMMARY:Student exchange approval forms due
DESCRIPTION:
URL:https://ecoleague.org/event/student-exchange-approval-forms-due/
END:VEVENT
END:VCALENDAR