BEGIN:VCALENDAR
VERSION:2.0
PRODID:-//EcoLeague - ECPv6.15.20//NONSGML v1.0//EN
CALSCALE:GREGORIAN
METHOD:PUBLISH
X-ORIGINAL-URL:https://ecoleague.org
X-WR-CALDESC:Events for EcoLeague
REFRESH-INTERVAL;VALUE=DURATION:PT1H
X-Robots-Tag:noindex
X-PUBLISHED-TTL:PT1H
BEGIN:VTIMEZONE
TZID:America/New_York
BEGIN:DAYLIGHT
TZOFFSETFROM:-0500
TZOFFSETTO:-0400
TZNAME:EDT
DTSTART:20140309T070000
END:DAYLIGHT
BEGIN:STANDARD
TZOFFSETFROM:-0400
TZOFFSETTO:-0500
TZNAME:EST
DTSTART:20141102T060000
END:STANDARD
BEGIN:DAYLIGHT
TZOFFSETFROM:-0500
TZOFFSETTO:-0400
TZNAME:EDT
DTSTART:20150308T070000
END:DAYLIGHT
BEGIN:STANDARD
TZOFFSETFROM:-0400
TZOFFSETTO:-0500
TZNAME:EST
DTSTART:20151101T060000
END:STANDARD
BEGIN:DAYLIGHT
TZOFFSETFROM:-0500
TZOFFSETTO:-0400
TZNAME:EDT
DTSTART:20160313T070000
END:DAYLIGHT
BEGIN:STANDARD
TZOFFSETFROM:-0400
TZOFFSETTO:-0500
TZNAME:EST
DTSTART:20161106T060000
END:STANDARD
END:VTIMEZONE
BEGIN:VEVENT
DTSTART;VALUE=DATE:20150831
DTEND;VALUE=DATE:20151219
DTSTAMP:20260421T102607
CREATED:20150129T221907Z
LAST-MODIFIED:20150129T221907Z
UID:706-1440979200-1450483199@ecoleague.org
SUMMARY:Dickinson College Fall Semester
DESCRIPTION:
URL:https://ecoleague.org/event/dickinson-college-fall-semester/
END:VEVENT
BEGIN:VEVENT
DTSTART;VALUE=DATE:20150831
DTEND;VALUE=DATE:20151219
DTSTAMP:20260421T102607
CREATED:20150129T221744Z
LAST-MODIFIED:20150129T221744Z
UID:705-1440979200-1450483199@ecoleague.org
SUMMARY:Green Mountain Fall Semester
DESCRIPTION:
URL:https://ecoleague.org/event/green-mountain-fall-semester/
END:VEVENT
BEGIN:VEVENT
DTSTART;VALUE=DATE:20150825
DTEND;VALUE=DATE:20150826
DTSTAMP:20260421T102607
CREATED:20150129T221319Z
LAST-MODIFIED:20150129T221319Z
UID:702-1440460800-1440547199@ecoleague.org
SUMMARY:Prescott College Fall Block Begins
DESCRIPTION:
URL:https://ecoleague.org/event/prescott-college-fall-block-begins/
END:VEVENT
BEGIN:VEVENT
DTSTART;VALUE=DATE:20150824
DTEND;VALUE=DATE:20150825
DTSTAMP:20260421T102607
CREATED:20150129T223736Z
LAST-MODIFIED:20150129T223915Z
UID:707-1440374400-1440460799@ecoleague.org
SUMMARY:APU Fall Block begins
DESCRIPTION:
URL:https://ecoleague.org/event/apu-fall-2015-block-begins/
END:VEVENT
BEGIN:VEVENT
DTSTART;VALUE=DATE:20150618
DTEND;VALUE=DATE:20150621
DTSTAMP:20260421T102607
CREATED:20150203T024332Z
LAST-MODIFIED:20150203T024332Z
UID:869-1434585600-1434844799@ecoleague.org
SUMMARY:EcoLeague Annual Retreat - at Dickinson College
DESCRIPTION:
URL:https://ecoleague.org/event/ecoleague-annual-retreat-at-dickinson-college/
END:VEVENT
BEGIN:VEVENT
DTSTART;VALUE=DATE:20150410
DTEND;VALUE=DATE:20150411
DTSTAMP:20260421T102607
CREATED:20150129T220654Z
LAST-MODIFIED:20150129T220654Z
UID:700-1428624000-1428710399@ecoleague.org
SUMMARY:Grand Canyon Semester application due
DESCRIPTION:For more information\, contact Joel Barnes at Prescott College – jbarnes”at”prescott.edu.
URL:https://ecoleague.org/event/grand-canyon-semester-application-due/
END:VEVENT
BEGIN:VEVENT
DTSTART;VALUE=DATE:20150315
DTEND;VALUE=DATE:20150316
DTSTAMP:20260421T102607
CREATED:20150129T220158Z
LAST-MODIFIED:20150129T220158Z
UID:699-1426377600-1426463999@ecoleague.org
SUMMARY:Student exchange paperwork due to EcoLeague Coordinator
DESCRIPTION:
URL:https://ecoleague.org/event/student-exchange-paperwork-due-to-ecoleague-coordinator/
END:VEVENT
BEGIN:VEVENT
DTSTART;VALUE=DATE:20150304
DTEND;VALUE=DATE:20150308
DTSTAMP:20260421T102607
CREATED:20150203T024212Z
LAST-MODIFIED:20150203T024212Z
UID:868-1425427200-1425772799@ecoleague.org
SUMMARY:EcoLeague attends Green Schools National Network
DESCRIPTION:
URL:https://ecoleague.org/event/ecoleague-attends-green-schools-national-network/
END:VEVENT
BEGIN:VEVENT
DTSTART;VALUE=DATE:20150301
DTEND;VALUE=DATE:20150302
DTSTAMP:20260421T102607
CREATED:20150129T215836Z
LAST-MODIFIED:20150129T220110Z
UID:698-1425168000-1425254399@ecoleague.org
SUMMARY:Student exchange approval forms due
DESCRIPTION:
URL:https://ecoleague.org/event/student-exchange-approval-forms-due/
END:VEVENT
END:VCALENDAR